BEGIN:VCALENDAR
VERSION:2.0
PRODID:-//GAL Manufacturing - ECPv5.3.1.1//NONSGML v1.0//EN
CALSCALE:GREGORIAN
METHOD:PUBLISH
X-WR-CALNAME:GAL Manufacturing
X-ORIGINAL-URL:https://gal.vantage-staging.threedivision.com
X-WR-CALDESC:Events for GAL Manufacturing
BEGIN:VTIMEZONE
TZID:America/New_York
BEGIN:DAYLIGHT
TZOFFSETFROM:-0500
TZOFFSETTO:-0400
TZNAME:EDT
DTSTART:20190310T070000
END:DAYLIGHT
BEGIN:STANDARD
TZOFFSETFROM:-0400
TZOFFSETTO:-0500
TZNAME:EST
DTSTART:20191103T060000
END:STANDARD
END:VTIMEZONE
BEGIN:VEVENT
DTSTART;TZID=America/New_York:20190915T080000
DTEND;TZID=America/New_York:20190915T170000
DTSTAMP:20260423T212214
CREATED:20190606T135830Z
LAST-MODIFIED:20190606T135830Z
UID:1600-1568534400-1568566800@gal.vantage-staging.threedivision.com
SUMMARY:NAEC
DESCRIPTION:NAEC Annual Convention and Exposition. Grand Rapids\, MI; For more information contact: www.naecconvention.com
URL:https://gal.vantage-staging.threedivision.com/event/naec-2/
END:VEVENT
END:VCALENDAR